BEGIN:VCALENDAR
VERSION:2.0
METHOD:PUBLISH
CALSCALE:GREGORIAN
PRODID:-//Refresh Web Development//Helios Calendar//EN
X-FROM-URL:https://www.bayareascience.org/calendar/index.php?com=details&eID=35909
X-WR-RELCALID:BayAreaScience.org Heterogeneity in Collective Behavior 20240415T123000
X-WR-TIMEZONE:America/New_York
X-WR-CALNAME:BayAreaScience.org
BEGIN:VEVENT
URL;VALUE=URI:https://www.bayareascience.org/calendar/index.php?com=detail&eID=35909
DTSTART:20240415T123000
DTEND:20240415T133000
SUMMARY:Heterogeneity in Collective Behavior
DESCRIPTION:Aggregations of social animals\, such as flocks\, schools\, herds\, and swarms\, are beautiful examples of self-organized behavior far from equilibrium. Such collectives have been the focus of a significant...\n______________________________\nThis Event Downloaded From a Helios Calendar Powered Site
LOCATION:Shriram Center - Stanford University Room 104\, Stanford\, CA  94305
CATEGORIES:BayAreaScience.org Events
PRIORITY:0
TRANSP:TRANSPARENT
END:VEVENT
END:VCALENDAR