BEGIN:VCALENDAR
VERSION:2.0
METHOD:PUBLISH
CALSCALE:GREGORIAN
PRODID:-//Refresh Web Development//Helios Calendar//EN
X-FROM-URL:https://www.bayareascience.org/calendar/index.php?com=details&eID=35913
X-WR-RELCALID:BayAreaScience.org Teaching Casualty Care in Ukraine During the Russian Invasion - Fourth Time's the Charm  20240501T180000
X-WR-TIMEZONE:America/New_York
X-WR-CALNAME:BayAreaScience.org
BEGIN:VEVENT
URL;VALUE=URI:https://www.bayareascience.org/calendar/index.php?com=detail&eID=35913
DTSTART:20240501T180000
DTEND:20240501T200000
SUMMARY:Teaching Casualty Care in Ukraine During the Russian Invasion - Fourth Time's the Charm 
DESCRIPTION:Dr Michael Baker teaches Advanced Trauma Life Support (ATLS) to civilian and military medical providers and Stop the Bleed (StB) to civilians. The goal is to improve the care of injured patients...\n______________________________\nThis Event Downloaded From a Helios Calendar Powered Site
LOCATION:Lafayette Library and Learning Center - Community Hall Building 3491 Mt. Diablo Blvd\, Lafayette\, CA  94549
CATEGORIES:BayAreaScience.org Events
PRIORITY:0
TRANSP:TRANSPARENT
END:VEVENT
END:VCALENDAR