BEGIN:VCALENDAR
VERSION:2.0
METHOD:PUBLISH
CALSCALE:GREGORIAN
PRODID:-//Refresh Web Development//Helios Calendar//EN
X-FROM-URL:https://www.bayareascience.org/calendar/index.php?com=details&eID=35919
X-WR-RELCALID:BayAreaScience.org Ice, Whales, Glaciers, and Penguins: Insights from 43 years of working in Antarctica 20240416T190000
X-WR-TIMEZONE:America/New_York
X-WR-CALNAME:BayAreaScience.org
BEGIN:VEVENT
URL;VALUE=URI:https://www.bayareascience.org/calendar/index.php?com=detail&eID=35919
DTSTART:20240416T190000
DTEND:20240416T200000
SUMMARY:Ice\, Whales\, Glaciers\, and Penguins: Insights from 43 years of working in Antarctica
DESCRIPTION:\n______________________________\nThis Event Downloaded From a Helios Calendar Powered Site
LOCATION:Hopkins Marine Station - 120 Ocean View Blvd \, Pacific Grove\, CA  93950
CATEGORIES:BayAreaScience.org Events
PRIORITY:0
TRANSP:TRANSPARENT
END:VEVENT
END:VCALENDAR