BEGIN:VCALENDAR
VERSION:2.0
METHOD:PUBLISH
CALSCALE:GREGORIAN
PRODID:-//Refresh Web Development//Helios Calendar//EN
X-FROM-URL:https://www.bayareascience.org/calendar/index.php?com=details&eID=35922
X-WR-RELCALID:BayAreaScience.org Tech in Culture: How Technology is Disrupting the Culture Industry 20240430T173000
X-WR-TIMEZONE:America/New_York
X-WR-CALNAME:BayAreaScience.org
BEGIN:VEVENT
URL;VALUE=URI:https://www.bayareascience.org/calendar/index.php?com=detail&eID=35922
DTSTART:20240430T173000
DTEND:20240430T200000
SUMMARY:Tech in Culture: How Technology is Disrupting the Culture Industry
DESCRIPTION:Prepare to be inspired as we delve into the world of Tech in Culture. This event is co-organized with French...\n______________________________\nThis Event Downloaded From a Helios Calendar Powered Site
LOCATION:Silicon Valley Bank Experience Center - 532 Market St \, San Francisco\, CA  94104
CATEGORIES:BayAreaScience.org Events
PRIORITY:0
TRANSP:TRANSPARENT
END:VEVENT
END:VCALENDAR