BEGIN:VCALENDAR
VERSION:2.0
METHOD:PUBLISH
CALSCALE:GREGORIAN
PRODID:-//Refresh Web Development//Helios Calendar//EN
X-FROM-URL:https://www.bayareascience.org/calendar/index.php?com=details&eID=35923
X-WR-RELCALID:BayAreaScience.org Green Metropolis: A Talk with the Author of a Seminal Work in the Field of Sustainability, David Owen - Livestream 20240418T113000
X-WR-TIMEZONE:America/New_York
X-WR-CALNAME:BayAreaScience.org
BEGIN:VEVENT
URL;VALUE=URI:https://www.bayareascience.org/calendar/index.php?com=detail&eID=35923
DTSTART:20240418T113000
DTEND:20240418T130000
SUMMARY:Green Metropolis: A Talk with the Author of a Seminal Work in the Field of Sustainability\, David Owen - Livestream
DESCRIPTION:This presentation by The New Yorker staff writer\, David Owen\, will focus on the topic of his 2010 book\, The Green Metropolis: Why Living Smaller\, Living Closer\, and Driving Less Are the Keys to...\n______________________________\nThis Event Downloaded From a Helios Calendar Powered Site
LOCATION:San Francisco Environment Department -  \, \, CA  
CATEGORIES:BayAreaScience.org Events
PRIORITY:0
TRANSP:TRANSPARENT
END:VEVENT
END:VCALENDAR