BEGIN:VCALENDAR
VERSION:2.0
METHOD:PUBLISH
CALSCALE:GREGORIAN
PRODID:-//Refresh Web Development//Helios Calendar//EN
X-FROM-URL:https://www.bayareascience.org/calendar/index.php?com=details&eID=35924
X-WR-RELCALID:BayAreaScience.org Electric Fireside Chat with Dahlia Myers - Livestream 20240418T170000
X-WR-TIMEZONE:America/New_York
X-WR-CALNAME:BayAreaScience.org
BEGIN:VEVENT
URL;VALUE=URI:https://www.bayareascience.org/calendar/index.php?com=detail&eID=35924
DTSTART:20240418T170000
DTEND:20240418T180000
SUMMARY:Electric Fireside Chat with Dahlia Myers - Livestream
DESCRIPTION:Join us for an inspiring conversation between Tyrone Jue\, Director of the San Francisco Environment Department\, and Dahlia Myers\, youth activist with the Sunrise Movement. Donâ€™t miss this...\n______________________________\nThis Event Downloaded From a Helios Calendar Powered Site
LOCATION:San Francisco Environment Department -  \, \, CA  
CATEGORIES:BayAreaScience.org Events
PRIORITY:0
TRANSP:TRANSPARENT
END:VEVENT
END:VCALENDAR