BEGIN:VCALENDAR
VERSION:2.0
METHOD:PUBLISH
CALSCALE:GREGORIAN
PRODID:-//Refresh Web Development//Helios Calendar//EN
X-FROM-URL:https://www.bayareascience.org/calendar/index.php?com=details&eID=35926
X-WR-RELCALID:BayAreaScience.org Astronomy on Tap Santa Cruz: How We Built the Largest Optical Telescope in the Known Universe and What Itâ€™s Taught Us 20240418T183000
X-WR-TIMEZONE:America/New_York
X-WR-CALNAME:BayAreaScience.org
BEGIN:VEVENT
URL;VALUE=URI:https://www.bayareascience.org/calendar/index.php?com=detail&eID=35926
DTSTART:20240418T183000
DTEND:20240418T200000
SUMMARY:Astronomy on Tap Santa Cruz: How We Built the Largest Optical Telescope in the Known Universe and What Itâ€™s Taught Us
DESCRIPTION:Despite being initially dismissed as a â€œbeyond ridiculousâ€ idea\, the W.M. Keck Observatory has been the largest optical telescope in the known universe for over three decades.\n______________________________\nThis Event Downloaded From a Helios Calendar Powered Site
LOCATION:Humble Sea Brewing Co - 820 Swift St \, Santa Cruz\, CA  95060
CATEGORIES:BayAreaScience.org Events
PRIORITY:0
TRANSP:TRANSPARENT
END:VEVENT
END:VCALENDAR