BEGIN:VCALENDAR
VERSION:2.0
METHOD:PUBLISH
CALSCALE:GREGORIAN
PRODID:-//Refresh Web Development//Helios Calendar//EN
X-FROM-URL:https://www.bayareascience.org/calendar/index.php?com=details&eID=35927
X-WR-RELCALID:BayAreaScience.org What She Said - Women in AI 20240502T170000
X-WR-TIMEZONE:America/New_York
X-WR-CALNAME:BayAreaScience.org
BEGIN:VEVENT
URL;VALUE=URI:https://www.bayareascience.org/calendar/index.php?com=detail&eID=35927
DTSTART:20240502T170000
DTEND:20240502T200000
SUMMARY:What She Said - Women in AI
DESCRIPTION:Originating at W San Francisco with its launch in 2016\, What She Said is a W Hotels & Resorts branded series featuring conversations among women that celebrate individuality\, inclusivity\, and...\n______________________________\nThis Event Downloaded From a Helios Calendar Powered Site
LOCATION:W Hotel San Francisco - 181 3rd St \, San Francisco\, CA  94103
CATEGORIES:BayAreaScience.org Events
PRIORITY:0
TRANSP:TRANSPARENT
END:VEVENT
END:VCALENDAR