BEGIN:VCALENDAR
VERSION:2.0
METHOD:PUBLISH
CALSCALE:GREGORIAN
PRODID:-//Refresh Web Development//Helios Calendar//EN
X-FROM-URL:https://www.bayareascience.org/calendar/index.php?com=details&eID=35929
X-WR-RELCALID:BayAreaScience.org Earth Day at the Refuge 20240421T100000
X-WR-TIMEZONE:America/New_York
X-WR-CALNAME:BayAreaScience.org
BEGIN:VEVENT
URL;VALUE=URI:https://www.bayareascience.org/calendar/index.php?com=detail&eID=35929
DTSTART:20240421T100000
DTEND:20240421T140000
SUMMARY:Earth Day at the Refuge
DESCRIPTION:Celebrate Earth Day with the Don Edwards San Francisco Bay National Wildlife Refuge and partners!This event will be an open house\, with time to explore\, learn more about our endangered species\,...\n______________________________\nThis Event Downloaded From a Helios Calendar Powered Site
LOCATION:Don Edwards Refuge Environmental Education Center - 1751 Grand Blvd \, Alviso\, CA  95002
CATEGORIES:BayAreaScience.org Events
PRIORITY:0
TRANSP:TRANSPARENT
END:VEVENT
END:VCALENDAR