BEGIN:VCALENDAR
VERSION:2.0
METHOD:PUBLISH
CALSCALE:GREGORIAN
PRODID:-//Refresh Web Development//Helios Calendar//EN
X-FROM-URL:https://www.bayareascience.org/calendar/index.php?com=details&eID=35931
X-WR-RELCALID:BayAreaScience.org The Myths and Misconceptions About Breasts 20240501T180000
X-WR-TIMEZONE:America/New_York
X-WR-CALNAME:BayAreaScience.org
BEGIN:VEVENT
URL;VALUE=URI:https://www.bayareascience.org/calendar/index.php?com=detail&eID=35931
DTSTART:20240501T180000
DTEND:20240501T193000
SUMMARY:The Myths and Misconceptions About Breasts
DESCRIPTION:An innovative investigation of the five strange worlds that worship womenâ€™s chests.After years of biopsies\, sociologist and bestselling author Sarah Thornton made the difficult decision...\n______________________________\nThis Event Downloaded From a Helios Calendar Powered Site
LOCATION:Commonwealth Club - 110 The Embarcadero \, San Francisco\, CA  94105
CATEGORIES:BayAreaScience.org Events
PRIORITY:0
TRANSP:TRANSPARENT
END:VEVENT
END:VCALENDAR