BEGIN:VCALENDAR
VERSION:2.0
METHOD:PUBLISH
CALSCALE:GREGORIAN
PRODID:-//Refresh Web Development//Helios Calendar//EN
X-FROM-URL:https://www.bayareascience.org/calendar/index.php?com=details&eID=35936
X-WR-RELCALID:BayAreaScience.org Bair Island Walking Tour 20240503T100000
X-WR-TIMEZONE:America/New_York
X-WR-CALNAME:BayAreaScience.org
BEGIN:VEVENT
URL;VALUE=URI:https://www.bayareascience.org/calendar/index.php?com=detail&eID=35936
DTSTART:20240503T100000
DTEND:20240503T120000
SUMMARY:Bair Island Walking Tour
DESCRIPTION:Join Peninsula Open Space Trust for a walking tour at Bair Island! Youâ€™ll be guided by POST ambassadors who will share the history of this beautiful protected space\, information about the...\n______________________________\nThis Event Downloaded From a Helios Calendar Powered Site
LOCATION:Bair Island Wildlife Refuge & Trail - 3 Uccelli Blvd \, Redwood City\, CA  94063
CATEGORIES:BayAreaScience.org Events
PRIORITY:0
TRANSP:TRANSPARENT
END:VEVENT
END:VCALENDAR