BEGIN:VCALENDAR
VERSION:2.0
METHOD:PUBLISH
CALSCALE:GREGORIAN
PRODID:-//Refresh Web Development//Helios Calendar//EN
X-FROM-URL:https://www.bayareascience.org/calendar/index.php?com=details&eID=35938
X-WR-RELCALID:BayAreaScience.org Morning Hike at Rancho CaÃ±ada del Oro 20240517T093000
X-WR-TIMEZONE:America/New_York
X-WR-CALNAME:BayAreaScience.org
BEGIN:VEVENT
URL;VALUE=URI:https://www.bayareascience.org/calendar/index.php?com=detail&eID=35938
DTSTART:20240517T093000
DTEND:20240517T120000
SUMMARY:Morning Hike at Rancho CaÃ±ada del Oro
DESCRIPTION:Join Peninsula Open Space Trust for an excursion where youâ€™ll explore the Mayfair Ranch - Longwall Canyon trails of Rancho CaÃ±ada del Oro! You will be guided by POST Ambassadors who will...\n______________________________\nThis Event Downloaded From a Helios Calendar Powered Site
LOCATION:Rancho Canada Del Oro Open Space Preserve - 4289 Casa Loma Rd \, Morgan Hill\, CA  95037
CATEGORIES:BayAreaScience.org Events
PRIORITY:0
TRANSP:TRANSPARENT
END:VEVENT
END:VCALENDAR