BEGIN:VCALENDAR
VERSION:2.0
METHOD:PUBLISH
CALSCALE:GREGORIAN
PRODID:-//Refresh Web Development//Helios Calendar//EN
X-FROM-URL:https://www.bayareascience.org/calendar/index.php?com=details&eID=35945
X-WR-RELCALID:BayAreaScience.org NOVA Secrets in your Data 20240516T190000
X-WR-TIMEZONE:America/New_York
X-WR-CALNAME:BayAreaScience.org
BEGIN:VEVENT
URL;VALUE=URI:https://www.bayareascience.org/calendar/index.php?com=detail&eID=35945
DTSTART:20240516T190000
DTEND:20240516T190000
SUMMARY:NOVA Secrets in your Data
DESCRIPTION:Whether youâ€™re on social media or surfing the web\, youâ€™re probably sharing more personal data than you realize. That can pose a risk to your privacy - even your safety. At the same...\n______________________________\nThis Event Downloaded From a Helios Calendar Powered Site
LOCATION:Computer History Museum - 1401 N Shoreline Blvd  \, Mountain View\, CA  94043
CATEGORIES:BayAreaScience.org Events
PRIORITY:0
TRANSP:TRANSPARENT
END:VEVENT
END:VCALENDAR