BEGIN:VCALENDAR
VERSION:2.0
METHOD:PUBLISH
CALSCALE:GREGORIAN
PRODID:-//Refresh Web Development//Helios Calendar//EN
X-FROM-URL:https://www.bayareascience.org/calendar/index.php?com=details&eID=35955
X-WR-RELCALID:BayAreaScience.org The Science of Weird Shit - Livestream 20240502T160000
X-WR-TIMEZONE:America/New_York
X-WR-CALNAME:BayAreaScience.org
BEGIN:VEVENT
URL;VALUE=URI:https://www.bayareascience.org/calendar/index.php?com=detail&eID=35955
DTSTART:20240502T160000
DTEND:20240502T160000
SUMMARY:The Science of Weird Shit - Livestream
DESCRIPTION:If the wider scientific community is right to be skeptical about paranormal claims\, why do so many people believe in the paranormal - including a sizable number who claim to have had direct personal...\n______________________________\nThis Event Downloaded From a Helios Calendar Powered Site
LOCATION:Skeptical Inquirer -  \, \, CA  
CATEGORIES:BayAreaScience.org Events
PRIORITY:0
TRANSP:TRANSPARENT
END:VEVENT
END:VCALENDAR