BEGIN:VCALENDAR
VERSION:2.0
METHOD:PUBLISH
CALSCALE:GREGORIAN
PRODID:-//Refresh Web Development//Helios Calendar//EN
X-FROM-URL:https://www.bayareascience.org/calendar/index.php?com=details&eID=35956
X-WR-RELCALID:BayAreaScience.org SLAC on Tap: Shocking to the Core: Adventures in Earth Science  20240509T170000
X-WR-TIMEZONE:America/New_York
X-WR-CALNAME:BayAreaScience.org
BEGIN:VEVENT
URL;VALUE=URI:https://www.bayareascience.org/calendar/index.php?com=detail&eID=35956
DTSTART:20240509T170000
DTEND:20240509T190000
SUMMARY:SLAC on Tap: Shocking to the Core: Adventures in Earth Science 
DESCRIPTION:Double your pressure\, double your fun! Join us at the Dutch Goose for SLAC on Tap on May 9\, when SLAC scientist and rock star Arianna Gleason will share the amazing secrets scientists are...\n______________________________\nThis Event Downloaded From a Helios Calendar Powered Site
LOCATION:The Dutch Goose - 3567 Alameda de las Pulgas \, Menlo Park\, CA  94025
CATEGORIES:BayAreaScience.org Events
PRIORITY:0
TRANSP:TRANSPARENT
END:VEVENT
END:VCALENDAR