BEGIN:VCALENDAR
VERSION:2.0
METHOD:PUBLISH
CALSCALE:GREGORIAN
PRODID:-//Refresh Web Development//Helios Calendar//EN
X-FROM-URL:https://www.bayareascience.org/calendar/index.php?com=details&eID=35959
X-WR-RELCALID:BayAreaScience.org Five Dollar Day 20240428T100000
X-WR-TIMEZONE:America/New_York
X-WR-CALNAME:BayAreaScience.org
BEGIN:VEVENT
URL;VALUE=URI:https://www.bayareascience.org/calendar/index.php?com=detail&eID=35959
DTSTART:20240428T100000
DTEND:20240428T170000
SUMMARY:Five Dollar Day
DESCRIPTION:Visit The Lawrence and enjoy all the hands-on science we offer for just $5 per person. Learn cutting-edge science in Hands-on Biotech and Virtually Human\, meet live animals in our recently renovated...\n______________________________\nThis Event Downloaded From a Helios Calendar Powered Site
LOCATION:Lawrence Hall of Science - 1 Centennial Drive \, Berkeley\, CA USA 94720
CATEGORIES:BayAreaScience.org Events
PRIORITY:0
TRANSP:TRANSPARENT
END:VEVENT
END:VCALENDAR