BEGIN:VCALENDAR
VERSION:2.0
METHOD:PUBLISH
CALSCALE:GREGORIAN
PRODID:-//Refresh Web Development//Helios Calendar//EN
X-FROM-URL:https://www.bayareascience.org/calendar/index.php?com=details&eID=35965
X-WR-RELCALID:BayAreaScience.org The PARC Forum IEEE Milestone Celebration 20240517T150000
X-WR-TIMEZONE:America/New_York
X-WR-CALNAME:BayAreaScience.org
BEGIN:VEVENT
URL;VALUE=URI:https://www.bayareascience.org/calendar/index.php?com=detail&eID=35965
DTSTART:20240517T150000
DTEND:20240517T170000
SUMMARY:The PARC Forum IEEE Milestone Celebration
DESCRIPTION:SRI is proud to host our next PARC Forum IEEE Milestone celebration to celebrate the creation of three world-changing technologies: the Alto personal computer\, Ethernet\, and the Laser Printer invented...\n______________________________\nThis Event Downloaded From a Helios Calendar Powered Site
LOCATION:SRI PARC Campus - 3333 Coyote Hill RD \, Palo Alto\, CA  94304
CATEGORIES:BayAreaScience.org Events
PRIORITY:0
TRANSP:TRANSPARENT
END:VEVENT
END:VCALENDAR