BEGIN:VCALENDAR
VERSION:2.0
METHOD:PUBLISH
CALSCALE:GREGORIAN
PRODID:-//Refresh Web Development//Helios Calendar//EN
X-FROM-URL:https://www.bayareascience.org/calendar/index.php?com=details&eID=35967
X-WR-RELCALID:BayAreaScience.org Conservative Threats to Public Education 20240505T140000
X-WR-TIMEZONE:America/New_York
X-WR-CALNAME:BayAreaScience.org
BEGIN:VEVENT
URL;VALUE=URI:https://www.bayareascience.org/calendar/index.php?com=detail&eID=35967
DTSTART:20240505T140000
DTEND:20240505T163000
SUMMARY:Conservative Threats to Public Education
DESCRIPTION:Kevin...\n______________________________\nThis Event Downloaded From a Helios Calendar Powered Site
LOCATION:South San Francisco Public Library - 901 Civic Campus Way \, South San Francisco\, CA  94080
CATEGORIES:BayAreaScience.org Events
PRIORITY:0
TRANSP:TRANSPARENT
END:VEVENT
END:VCALENDAR