BEGIN:VCALENDAR
VERSION:2.0
METHOD:PUBLISH
CALSCALE:GREGORIAN
PRODID:-//Refresh Web Development//Helios Calendar//EN
X-FROM-URL:https://www.bayareascience.org/calendar/index.php?com=details&eID=35977
X-WR-RELCALID:BayAreaScience.org Measuring and Modeling Turbulent Bottom Boundary Layers in Estuaries 20240429T123000
X-WR-TIMEZONE:America/New_York
X-WR-CALNAME:BayAreaScience.org
BEGIN:VEVENT
URL;VALUE=URI:https://www.bayareascience.org/calendar/index.php?com=detail&eID=35977
DTSTART:20240429T123000
DTEND:20240429T133000
SUMMARY:Measuring and Modeling Turbulent Bottom Boundary Layers in Estuaries
DESCRIPTION:Parameterizations of sediment erosion in coastal models typically assume a turbulent wave boundary layer with wave-induced currents that exceed the mean currents\, which is typical for beaches exposed...\n______________________________\nThis Event Downloaded From a Helios Calendar Powered Site
LOCATION:Shriram Center - Stanford University Room 104\, Stanford\, CA  94305
CATEGORIES:BayAreaScience.org Events
PRIORITY:0
TRANSP:TRANSPARENT
END:VEVENT
END:VCALENDAR