BEGIN:VCALENDAR
VERSION:2.0
METHOD:PUBLISH
CALSCALE:GREGORIAN
PRODID:-//Refresh Web Development//Helios Calendar//EN
X-FROM-URL:https://www.bayareascience.org/calendar/index.php?com=details&eID=35979
X-WR-RELCALID:BayAreaScience.org  Autonomous Vehicles and the City 2024 20240426T150000
X-WR-TIMEZONE:America/New_York
X-WR-CALNAME:BayAreaScience.org
BEGIN:VEVENT
URL;VALUE=URI:https://www.bayareascience.org/calendar/index.php?com=detail&eID=35979
DTSTART:20240426T150000
DTEND:20240426T160000
SUMMARY: Autonomous Vehicles and the City 2024
DESCRIPTION:Join us for an afternoon focused on automation and innovation for public good.Autonomous vehicles have the potential to revolutionize transportation in our cities\, offering increased accessibility...\n______________________________\nThis Event Downloaded From a Helios Calendar Powered Site
LOCATION:Commonwealth Club - 110 The Embarcadero \, San Francisco\, CA  94105
CATEGORIES:BayAreaScience.org Events
PRIORITY:0
TRANSP:TRANSPARENT
END:VEVENT
END:VCALENDAR