BEGIN:VCALENDAR
VERSION:2.0
METHOD:PUBLISH
CALSCALE:GREGORIAN
PRODID:-//Refresh Web Development//Helios Calendar//EN
X-FROM-URL:https://www.bayareascience.org/calendar/index.php?com=details&eID=35980
X-WR-RELCALID:BayAreaScience.org 2024 Drake Awards 20240516T180000
X-WR-TIMEZONE:America/New_York
X-WR-CALNAME:BayAreaScience.org
BEGIN:VEVENT
URL;VALUE=URI:https://www.bayareascience.org/calendar/index.php?com=detail&eID=35980
DTSTART:20240516T180000
DTEND:20240516T210000
SUMMARY:2024 Drake Awards
DESCRIPTION:Weâ€™re excited to celebrate all things SETI and astrobiology! The SETI Instituteâ€™s annual event has a new venue (the Computer History Museum) and a new format (a seated dinner)!Join...\n______________________________\nThis Event Downloaded From a Helios Calendar Powered Site
LOCATION:Computer History Museum - 1401 N Shoreline Blvd  \, Mountain View\, CA  94043
CATEGORIES:BayAreaScience.org Events
PRIORITY:0
TRANSP:TRANSPARENT
END:VEVENT
END:VCALENDAR