BEGIN:VCALENDAR
VERSION:2.0
METHOD:PUBLISH
CALSCALE:GREGORIAN
PRODID:-//Refresh Web Development//Helios Calendar//EN
X-FROM-URL:https://www.bayareascience.org/calendar/index.php?com=details&eID=35992
X-WR-RELCALID:BayAreaScience.org Marine Science for Social Justice - Livestream 20240626T150000
X-WR-TIMEZONE:America/New_York
X-WR-CALNAME:BayAreaScience.org
BEGIN:VEVENT
URL;VALUE=URI:https://www.bayareascience.org/calendar/index.php?com=detail&eID=35992
DTSTART:20240626T150000
DTEND:20240626T160000
SUMMARY:Marine Science for Social Justice - Livestream
DESCRIPTION:Speaker: Katy Seto\, UC Santa CruzRegister at weblink to receive connection information\n______________________________\nThis Event Downloaded From a Helios Calendar Powered Site
LOCATION:Bodega Marine Laboratory -  \, \, CA  
CATEGORIES:BayAreaScience.org Events
PRIORITY:0
TRANSP:TRANSPARENT
END:VEVENT
END:VCALENDAR