BEGIN:VCALENDAR
VERSION:2.0
METHOD:PUBLISH
CALSCALE:GREGORIAN
PRODID:-//Refresh Web Development//Helios Calendar//EN
X-FROM-URL:https://www.bayareascience.org/calendar/index.php?com=details&eID=35997
X-WR-RELCALID:BayAreaScience.org KQED Deep Look Film Night at the Estuary & Ocean Science Center 20240508T180000
X-WR-TIMEZONE:America/New_York
X-WR-CALNAME:BayAreaScience.org
BEGIN:VEVENT
URL;VALUE=URI:https://www.bayareascience.org/calendar/index.php?com=detail&eID=35997
DTSTART:20240508T180000
DTEND:20240508T200000
SUMMARY:KQED Deep Look Film Night at the Estuary & Ocean Science Center
DESCRIPTION:Join KQEDâ€™s Deep Look wildlife series for a special screening event exploring natureâ€™s tiny wonders at San Francisco State Universityâ€™s Estuary & Ocean Science...\n______________________________\nThis Event Downloaded From a Helios Calendar Powered Site
LOCATION:Estuary & Ocean Science Center - 3150 Paradise Drive Bay Conference Center\, South Bay Room\, Tiburon\, CA  94920
CATEGORIES:BayAreaScience.org Events
PRIORITY:0
TRANSP:TRANSPARENT
END:VEVENT
END:VCALENDAR