BEGIN:VCALENDAR
VERSION:2.0
METHOD:PUBLISH
CALSCALE:GREGORIAN
PRODID:-//Refresh Web Development//Helios Calendar//EN
X-FROM-URL:https://www.bayareascience.org/calendar/index.php?com=details&eID=35999
X-WR-RELCALID:BayAreaScience.org Women Energy Associates: Climate Adocacy in Action 20240516T170000
X-WR-TIMEZONE:America/New_York
X-WR-CALNAME:BayAreaScience.org
BEGIN:VEVENT
URL;VALUE=URI:https://www.bayareascience.org/calendar/index.php?com=detail&eID=35999
DTSTART:20240516T170000
DTEND:20240516T193000
SUMMARY:Women Energy Associates: Climate Adocacy in Action
DESCRIPTION:Climate action advocates world-wide have been instrumental in spurring organizations and institutions to adopt climate and sustainability goals.Â  How have these goals translated into action?Â ...\n______________________________\nThis Event Downloaded From a Helios Calendar Powered Site
LOCATION:National Resources Defense Council San Francisco - 111 Sutter St 20th Floor\, San Francisco\, CA  
CATEGORIES:BayAreaScience.org Events
PRIORITY:0
TRANSP:TRANSPARENT
END:VEVENT
END:VCALENDAR