BEGIN:VCALENDAR
VERSION:2.0
METHOD:PUBLISH
CALSCALE:GREGORIAN
PRODID:-//Refresh Web Development//Helios Calendar//EN
X-FROM-URL:https://www.bayareascience.org/calendar/index.php?com=details&eID=36003
X-WR-RELCALID:BayAreaScience.org Making News: How Tech Shapes Journalism and Society 20240627T190000
X-WR-TIMEZONE:America/New_York
X-WR-CALNAME:BayAreaScience.org
BEGIN:VEVENT
URL;VALUE=URI:https://www.bayareascience.org/calendar/index.php?com=detail&eID=36003
DTSTART:20240627T190000
DTEND:20240627T190000
SUMMARY:Making News: How Tech Shapes Journalism and Society
DESCRIPTION:Today\, journalism\, technology\, and political polarization are profoundly changing one another - and us. But this is far from the first time these forces have collided. What lessons does history...\n______________________________\nThis Event Downloaded From a Helios Calendar Powered Site
LOCATION:Computer History Museum - 1401 N Shoreline Blvd  \, Mountain View\, CA  94043
CATEGORIES:BayAreaScience.org Events
PRIORITY:0
TRANSP:TRANSPARENT
END:VEVENT
END:VCALENDAR