BEGIN:VCALENDAR
VERSION:2.0
METHOD:PUBLISH
CALSCALE:GREGORIAN
PRODID:-//Refresh Web Development//Helios Calendar//EN
X-FROM-URL:https://www.bayareascience.org/calendar/index.php?com=details&eID=36004
X-WR-RELCALID:BayAreaScience.org When Driving Is Not an Option: Steering Away from Car Dependency 20240603T170000
X-WR-TIMEZONE:America/New_York
X-WR-CALNAME:BayAreaScience.org
BEGIN:VEVENT
URL;VALUE=URI:https://www.bayareascience.org/calendar/index.php?com=detail&eID=36004
DTSTART:20240603T170000
DTEND:20240603T190000
SUMMARY:When Driving Is Not an Option: Steering Away from Car Dependency
DESCRIPTION:\n______________________________\nThis Event Downloaded From a Helios Calendar Powered Site
LOCATION:SF Planning + Urban Research Assoc. (SPUR) - 654 Mission St \, San Francisco\, CA  94105
CATEGORIES:BayAreaScience.org Events
PRIORITY:0
TRANSP:TRANSPARENT
END:VEVENT
END:VCALENDAR