BEGIN:VCALENDAR
VERSION:2.0
METHOD:PUBLISH
CALSCALE:GREGORIAN
PRODID:-//Refresh Web Development//Helios Calendar//EN
X-FROM-URL:https://www.bayareascience.org/calendar/index.php?com=details&eID=36005
X-WR-RELCALID:BayAreaScience.org Bay Lexicon 20240606T123000
X-WR-TIMEZONE:America/New_York
X-WR-CALNAME:BayAreaScience.org
BEGIN:VEVENT
URL;VALUE=URI:https://www.bayareascience.org/calendar/index.php?com=detail&eID=36005
DTSTART:20240606T123000
DTEND:20240606T133000
SUMMARY:Bay Lexicon
DESCRIPTION:"Bay Lexicon" - a field guide to San Franciscoâ€™s shore - uses drawings\, text\, and maps to develop vocabulary for thinking and talking about a future made uncertain by sea level rise and...\n______________________________\nThis Event Downloaded From a Helios Calendar Powered Site
LOCATION:SF Planning + Urban Research Assoc. (SPUR) - 654 Mission St \, San Francisco\, CA  94105
CATEGORIES:BayAreaScience.org Events
PRIORITY:0
TRANSP:TRANSPARENT
END:VEVENT
END:VCALENDAR