BEGIN:VCALENDAR
VERSION:2.0
METHOD:PUBLISH
CALSCALE:GREGORIAN
PRODID:-//Refresh Web Development//Helios Calendar//EN
X-FROM-URL:https://www.bayareascience.org/calendar/index.php?com=details&eID=36006
X-WR-RELCALID:BayAreaScience.org 'Making Climate Tech Work: Policies that Drive Innovation' - A Conversation with Author Alon Tal 20240508T113000
X-WR-TIMEZONE:America/New_York
X-WR-CALNAME:BayAreaScience.org
BEGIN:VEVENT
URL;VALUE=URI:https://www.bayareascience.org/calendar/index.php?com=detail&eID=36006
DTSTART:20240508T113000
DTEND:20240508T122000
SUMMARY:'Making Climate Tech Work: Policies that Drive Innovation' - A Conversation with Author Alon Tal
DESCRIPTION:\n______________________________\nThis Event Downloaded From a Helios Calendar Powered Site
LOCATION:Mitchell Earth Sciences Building (04-560) - 397 Panama Mall Stanford University\, Stanford\, CA  94305
CATEGORIES:BayAreaScience.org Events
PRIORITY:0
TRANSP:TRANSPARENT
END:VEVENT
END:VCALENDAR