BEGIN:VCALENDAR
VERSION:2.0
METHOD:PUBLISH
CALSCALE:GREGORIAN
PRODID:-//Refresh Web Development//Helios Calendar//EN
X-FROM-URL:https://www.bayareascience.org/calendar/index.php?com=details&eID=36008
X-WR-RELCALID:BayAreaScience.org From Icy Moons to Giant Planets: Exploring the Deep Structure of Solar System Worlds with Tidal Observations 20240502T120000
X-WR-TIMEZONE:America/New_York
X-WR-CALNAME:BayAreaScience.org
BEGIN:VEVENT
URL;VALUE=URI:https://www.bayareascience.org/calendar/index.php?com=detail&eID=36008
DTSTART:20240502T120000
DTEND:20240502T130000
SUMMARY:From Icy Moons to Giant Planets: Exploring the Deep Structure of Solar System Worlds with Tidal Observations
DESCRIPTION:\n______________________________\nThis Event Downloaded From a Helios Calendar Powered Site
LOCATION:Mitchell Earth Sciences Building (04-560) - 397 Panama Mall Stanford University\, Stanford\, CA  94305
CATEGORIES:BayAreaScience.org Events
PRIORITY:0
TRANSP:TRANSPARENT
END:VEVENT
END:VCALENDAR