BEGIN:VCALENDAR
VERSION:2.0
METHOD:PUBLISH
CALSCALE:GREGORIAN
PRODID:-//Refresh Web Development//Helios Calendar//EN
X-FROM-URL:https://www.bayareascience.org/calendar/index.php?com=details&eID=36010
X-WR-RELCALID:BayAreaScience.org  Mercury Rising: The Toxicology of a Global Pollutant 20240523T190000
X-WR-TIMEZONE:America/New_York
X-WR-CALNAME:BayAreaScience.org
BEGIN:VEVENT
URL;VALUE=URI:https://www.bayareascience.org/calendar/index.php?com=detail&eID=36010
DTSTART:20240523T190000
DTEND:20240523T200000
SUMMARY: Mercury Rising: The Toxicology of a Global Pollutant
DESCRIPTION:Every day\, we come in contact with many different chemicals that have the potential to impact our lives. Toxicology is a field of science that helps us understand the interactions between...\n______________________________\nThis Event Downloaded From a Helios Calendar Powered Site
LOCATION:Stanford Linear Accelerator (SLAC) Public Lecture Series - 2575 Sand Hill Road\, Building 51 Kavli Auditorium\, Menlo Park\, CA  94025
CATEGORIES:BayAreaScience.org Events
PRIORITY:0
TRANSP:TRANSPARENT
END:VEVENT
END:VCALENDAR