BEGIN:VCALENDAR
VERSION:2.0
METHOD:PUBLISH
CALSCALE:GREGORIAN
PRODID:-//Refresh Web Development//Helios Calendar//EN
X-FROM-URL:https://www.bayareascience.org/calendar/index.php?com=details&eID=36011
X-WR-RELCALID:BayAreaScience.org Silicon Valley Dejargonizers, a toastmasters club meeting - Livestream 20240508T180000
X-WR-TIMEZONE:America/New_York
X-WR-CALNAME:BayAreaScience.org
BEGIN:VEVENT
URL;VALUE=URI:https://www.bayareascience.org/calendar/index.php?com=detail&eID=36011
DTSTART:20240508T180000
DTEND:20240508T190000
SUMMARY:Silicon Valley Dejargonizers\, a toastmasters club meeting - Livestream
DESCRIPTION:How would you explain wifi to kids? How would you explain a large language model to a non-technical person?How would you explain the journey of an online payment?\n______________________________\nThis Event Downloaded From a Helios Calendar Powered Site
LOCATION:Silicon Valley Dejargonizers -  \, \, CA  
CATEGORIES:BayAreaScience.org Events
PRIORITY:0
TRANSP:TRANSPARENT
END:VEVENT
END:VCALENDAR