BEGIN:VCALENDAR
VERSION:2.0
METHOD:PUBLISH
CALSCALE:GREGORIAN
PRODID:-//Refresh Web Development//Helios Calendar//EN
X-FROM-URL:https://www.bayareascience.org/calendar/index.php?com=details&eID=36015
X-WR-RELCALID:BayAreaScience.org Family Nature Adventures: Special Motherâ€™s Day Edition 20240512T110000
X-WR-TIMEZONE:America/New_York
X-WR-CALNAME:BayAreaScience.org
BEGIN:VEVENT
URL;VALUE=URI:https://www.bayareascience.org/calendar/index.php?com=detail&eID=36015
DTSTART:20240512T110000
DTEND:20240512T133000
SUMMARY:Family Nature Adventures: Special Motherâ€™s Day Edition
DESCRIPTION:Join us for a delightful Motherâ€™s Day celebration that combines creativity\, nature\, and family fun! Our workshop offers a unique opportunity for families with children ages...\n______________________________\nThis Event Downloaded From a Helios Calendar Powered Site
LOCATION:Chabot Space and Science Center - 10000 Skyline Blvd \, Oakland\, CA USA 94619
CATEGORIES:BayAreaScience.org Events
PRIORITY:0
TRANSP:TRANSPARENT
END:VEVENT
END:VCALENDAR