BEGIN:VCALENDAR
VERSION:2.0
METHOD:PUBLISH
CALSCALE:GREGORIAN
PRODID:-//Refresh Web Development//Helios Calendar//EN
X-FROM-URL:https://www.bayareascience.org/calendar/index.php?com=details&eID=36023
X-WR-RELCALID:BayAreaScience.org The Christian Nationalist Threat to American Democracy - Livestream 20240516T160000
X-WR-TIMEZONE:America/New_York
X-WR-CALNAME:BayAreaScience.org
BEGIN:VEVENT
URL;VALUE=URI:https://www.bayareascience.org/calendar/index.php?com=detail&eID=36023
DTSTART:20240516T160000
DTEND:20240516T160000
SUMMARY:The Christian Nationalist Threat to American Democracy - Livestream
DESCRIPTION:Christian nationalism is more than faith combined with patriotism. Itâ€™s a movement designed to impose one vision of Christianity on all others - a religious mission of conquest and domination....\n______________________________\nThis Event Downloaded From a Helios Calendar Powered Site
LOCATION:Skeptical Inquirer -  \, \, CA  
CATEGORIES:BayAreaScience.org Events
PRIORITY:0
TRANSP:TRANSPARENT
END:VEVENT
END:VCALENDAR