BEGIN:VCALENDAR
VERSION:2.0
METHOD:PUBLISH
CALSCALE:GREGORIAN
PRODID:-//Refresh Web Development//Helios Calendar//EN
X-FROM-URL:https://www.bayareascience.org/calendar/index.php?com=details&eID=36027
X-WR-RELCALID:BayAreaScience.org Europa Clipper: Exploring Jupiterâ€™s Ocean World - Livestream 20240522T190000
X-WR-TIMEZONE:America/New_York
X-WR-CALNAME:BayAreaScience.org
BEGIN:VEVENT
URL;VALUE=URI:https://www.bayareascience.org/calendar/index.php?com=detail&eID=36027
DTSTART:20240522T190000
DTEND:20240523T083000
SUMMARY:Europa Clipper: Exploring Jupiterâ€™s Ocean World - Livestream
DESCRIPTION:Jupiter's moon Europa may be a habitable world\, containing the â€œingredientsâ€ necessary for life within its ocean. Data from NASAâ€™s earlier Galileo mission suggest that a global...\n______________________________\nThis Event Downloaded From a Helios Calendar Powered Site
LOCATION:Silicon Valley Astronomy Lecture Series -  \, \, CA United States 
CATEGORIES:BayAreaScience.org Events
PRIORITY:0
TRANSP:TRANSPARENT
END:VEVENT
END:VCALENDAR