BEGIN:VCALENDAR
VERSION:2.0
METHOD:PUBLISH
CALSCALE:GREGORIAN
PRODID:-//Refresh Web Development//Helios Calendar//EN
X-FROM-URL:https://www.bayareascience.org/calendar/index.php?com=details&eID=36040
X-WR-RELCALID:BayAreaScience.org Starry Nights Star Party - CANCELED 20241130T184500
X-WR-TIMEZONE:America/New_York
X-WR-CALNAME:BayAreaScience.org
BEGIN:VEVENT
URL;VALUE=URI:https://www.bayareascience.org/calendar/index.php?com=detail&eID=36040
DTSTART:20241130T184500
DTEND:20241130T204500
SUMMARY:Starry Nights Star Party - CANCELED
DESCRIPTION:The San Jose Astronomical Association (SJAA)\, working with the Santa Clara County Open Space Authority (OSA)\, is glad to co-host a public star party at Rancho Canada del Oro (RCDO)...\n______________________________\nThis Event Downloaded From a Helios Calendar Powered Site
LOCATION:Rancho Canada Del Oro Open Space Preserve - 4289 Casa Loma Rd \, Morgan Hill\, CA  95037
CATEGORIES:BayAreaScience.org Events
PRIORITY:0
TRANSP:TRANSPARENT
END:VEVENT
END:VCALENDAR