BEGIN:VCALENDAR
VERSION:2.0
METHOD:PUBLISH
CALSCALE:GREGORIAN
PRODID:-//Refresh Web Development//Helios Calendar//EN
X-FROM-URL:https://www.bayareascience.org/calendar/index.php?com=details&eID=36054
X-WR-RELCALID:BayAreaScience.org The Next Frontier is Your Mind: Neurotechnologies, Human Rights, and the Battle for Your Brain 20240514T163000
X-WR-TIMEZONE:America/New_York
X-WR-CALNAME:BayAreaScience.org
BEGIN:VEVENT
URL;VALUE=URI:https://www.bayareascience.org/calendar/index.php?com=detail&eID=36054
DTSTART:20240514T163000
DTEND:20240514T180000
SUMMARY:The Next Frontier is Your Mind: Neurotechnologies\, Human Rights\, and the Battle for Your Brain
DESCRIPTION:Emerging technologies are evolving at an astonishing pace. Nowhere is this more apparent than in the field of neurotechnology\, which refers to devices capable of recording\, interpreting\, or altering...\n______________________________\nThis Event Downloaded From a Helios Calendar Powered Site
LOCATION:Stanford University Law School - 559 Nathan Abbott Way \, Stanford\, CA  94305
CATEGORIES:BayAreaScience.org Events
PRIORITY:0
TRANSP:TRANSPARENT
END:VEVENT
END:VCALENDAR