BEGIN:VCALENDAR
VERSION:2.0
METHOD:PUBLISH
CALSCALE:GREGORIAN
PRODID:-//Refresh Web Development//Helios Calendar//EN
X-FROM-URL:https://www.bayareascience.org/calendar/index.php?com=details&eID=36055
X-WR-RELCALID:BayAreaScience.org NicaAgua: Climate science, participatory transdisciplinary approaches, and the development of a climate app 20240513T123000
X-WR-TIMEZONE:America/New_York
X-WR-CALNAME:BayAreaScience.org
BEGIN:VEVENT
URL;VALUE=URI:https://www.bayareascience.org/calendar/index.php?com=detail&eID=36055
DTSTART:20240513T123000
DTEND:20240513T133000
SUMMARY:NicaAgua: Climate science\, participatory transdisciplinary approaches\, and the development of a climate app
DESCRIPTION:Throughout Central America\, smallholder farmers build their livelihoods on rain-fed agriculture which is highly sensitive to seasonal variations in temperature and precipitation. Recent hydroclimatic...\n______________________________\nThis Event Downloaded From a Helios Calendar Powered Site
LOCATION:Shriram Center - Stanford University Room 104\, Stanford\, CA  94305
CATEGORIES:BayAreaScience.org Events
PRIORITY:0
TRANSP:TRANSPARENT
END:VEVENT
END:VCALENDAR