BEGIN:VCALENDAR
VERSION:2.0
METHOD:PUBLISH
CALSCALE:GREGORIAN
PRODID:-//Refresh Web Development//Helios Calendar//EN
X-FROM-URL:https://www.bayareascience.org/calendar/index.php?com=details&eID=36056
X-WR-RELCALID:BayAreaScience.org Astronomy on Tap Santa Cruz: Thriving in Space: Biology and Human Health 20240516T183000
X-WR-TIMEZONE:America/New_York
X-WR-CALNAME:BayAreaScience.org
BEGIN:VEVENT
URL;VALUE=URI:https://www.bayareascience.org/calendar/index.php?com=detail&eID=36056
DTSTART:20240516T183000
DTEND:20240516T183000
SUMMARY:Astronomy on Tap Santa Cruz: Thriving in Space: Biology and Human Health
DESCRIPTION:Human spaceflight missions promise a new chapter towards long-term Moon habitation and Mars transit & surface missions.Come learn about ongoing fundamental biological research\, space...\n______________________________\nThis Event Downloaded From a Helios Calendar Powered Site
LOCATION:Humble Sea Brewing Co - 820 Swift St \, Santa Cruz\, CA  95060
CATEGORIES:BayAreaScience.org Events
PRIORITY:0
TRANSP:TRANSPARENT
END:VEVENT
END:VCALENDAR