BEGIN:VCALENDAR
VERSION:2.0
METHOD:PUBLISH
CALSCALE:GREGORIAN
PRODID:-//Refresh Web Development//Helios Calendar//EN
X-FROM-URL:https://www.bayareascience.org/calendar/index.php?com=details&eID=36064
X-WR-RELCALID:BayAreaScience.org Teaching Astronomy in Italy and the Lessons I Learned 20240518T193000
X-WR-TIMEZONE:America/New_York
X-WR-CALNAME:BayAreaScience.org
BEGIN:VEVENT
URL;VALUE=URI:https://www.bayareascience.org/calendar/index.php?com=detail&eID=36064
DTSTART:20240518T193000
DTEND:20240518T210000
SUMMARY:Teaching Astronomy in Italy and the Lessons I Learned
DESCRIPTION:Andy Kreyche fell in love with the night sky when first saw stars in the deep\, dark desert skies of Southern Arizona after moving there at the age of 7. He has been involved with informal astronomy...\n______________________________\nThis Event Downloaded From a Helios Calendar Powered Site
LOCATION:San Jose Astronomical Association - Houge Park 3972 Twilight Drive\, San Jose\, CA  95124
CATEGORIES:BayAreaScience.org Events
PRIORITY:0
TRANSP:TRANSPARENT
END:VEVENT
END:VCALENDAR