BEGIN:VCALENDAR
VERSION:2.0
METHOD:PUBLISH
CALSCALE:GREGORIAN
PRODID:-//Refresh Web Development//Helios Calendar//EN
X-FROM-URL:https://www.bayareascience.org/calendar/index.php?com=details&eID=36067
X-WR-RELCALID:BayAreaScience.org On The Bay film program + Bay Cruise 20240601T140000
X-WR-TIMEZONE:America/New_York
X-WR-CALNAME:BayAreaScience.org
BEGIN:VEVENT
URL;VALUE=URI:https://www.bayareascience.org/calendar/index.php?com=detail&eID=36067
DTSTART:20240601T140000
DTEND:20240601T183000
SUMMARY:On The Bay film program + Bay Cruise
DESCRIPTION:Together with Shaping San Francisco\, the Kanbar Forum at the Exploratorium presents short films created by artists and scientists\, who explore unique cultural aspects of our Bay - its...\n______________________________\nThis Event Downloaded From a Helios Calendar Powered Site
LOCATION:ExplOratorium - Pier 15 (Embarcadero at Green Street)  \, San Francisco\, CA USA 94111
CATEGORIES:BayAreaScience.org Events
PRIORITY:0
TRANSP:TRANSPARENT
END:VEVENT
END:VCALENDAR