BEGIN:VCALENDAR
VERSION:2.0
METHOD:PUBLISH
CALSCALE:GREGORIAN
PRODID:-//Refresh Web Development//Helios Calendar//EN
X-FROM-URL:https://www.bayareascience.org/calendar/index.php?com=details&eID=36068
X-WR-RELCALID:BayAreaScience.org Elephant Seals - Making a Living in the Open Ocean - Livestream 20240528T190000
X-WR-TIMEZONE:America/New_York
X-WR-CALNAME:BayAreaScience.org
BEGIN:VEVENT
URL;VALUE=URI:https://www.bayareascience.org/calendar/index.php?com=detail&eID=36068
DTSTART:20240528T190000
DTEND:20240528T203000
SUMMARY:Elephant Seals - Making a Living in the Open Ocean - Livestream
DESCRIPTION:Please join us for an illuminating evening with Dr. Patrick Robinson as he shares some of the research findings from the UC Santa...\n______________________________\nThis Event Downloaded From a Helios Calendar Powered Site
LOCATION:American Cetacean Society -  \, \, CA  
CATEGORIES:BayAreaScience.org Events
PRIORITY:0
TRANSP:TRANSPARENT
END:VEVENT
END:VCALENDAR