BEGIN:VCALENDAR
VERSION:2.0
METHOD:PUBLISH
CALSCALE:GREGORIAN
PRODID:-//Refresh Web Development//Helios Calendar//EN
X-FROM-URL:https://www.bayareascience.org/calendar/index.php?com=details&eID=36073
X-WR-RELCALID:BayAreaScience.org  The Future of Health Care Is Unfolding - and Nursing and Public Health Are Leading the Way 20240528T173000
X-WR-TIMEZONE:America/New_York
X-WR-CALNAME:BayAreaScience.org
BEGIN:VEVENT
URL;VALUE=URI:https://www.bayareascience.org/calendar/index.php?com=detail&eID=36073
DTSTART:20240528T173000
DTEND:20240528T200000
SUMMARY: The Future of Health Care Is Unfolding - and Nursing and Public Health Are Leading the Way
DESCRIPTION:Evidence indicates that while health-care spending in the United States is the highest in the world\, people in the United States experience the worst health outcomes of any high-income nation overall....\n______________________________\nThis Event Downloaded From a Helios Calendar Powered Site
LOCATION:Commonwealth Club - 110 The Embarcadero \, San Francisco\, CA  94105
CATEGORIES:BayAreaScience.org Events
PRIORITY:0
TRANSP:TRANSPARENT
END:VEVENT
END:VCALENDAR