BEGIN:VCALENDAR
VERSION:2.0
METHOD:PUBLISH
CALSCALE:GREGORIAN
PRODID:-//Refresh Web Development//Helios Calendar//EN
X-FROM-URL:https://www.bayareascience.org/calendar/index.php?com=details&eID=36076
X-WR-RELCALID:BayAreaScience.org Flora of San Francisco's Serpentine Grassland, Starr King Open Space 20240520T190000
X-WR-TIMEZONE:America/New_York
X-WR-CALNAME:BayAreaScience.org
BEGIN:VEVENT
URL;VALUE=URI:https://www.bayareascience.org/calendar/index.php?com=detail&eID=36076
DTSTART:20240520T190000
DTEND:20240520T203000
SUMMARY:Flora of San Francisco's Serpentine Grassland\, Starr King Open Space
DESCRIPTION:Join us in San Francisco's Potrero Hill districe to learn about the flora of Starr King Open Space. Home to the last remaining population of the county's Yellow Mariposa Lily\, this talk\, a part...\n______________________________\nThis Event Downloaded From a Helios Calendar Powered Site
LOCATION:St Teresa of Avila Catholic Church - 1490 19th St \, San Francisco\, CA USA 94107
CATEGORIES:BayAreaScience.org Events
PRIORITY:0
TRANSP:TRANSPARENT
END:VEVENT
END:VCALENDAR