BEGIN:VCALENDAR
VERSION:2.0
METHOD:PUBLISH
CALSCALE:GREGORIAN
PRODID:-//Refresh Web Development//Helios Calendar//EN
X-FROM-URL:https://www.bayareascience.org/calendar/index.php?com=details&eID=36079
X-WR-RELCALID:BayAreaScience.org After Dark: Feeling Emotional 20240530T180000
X-WR-TIMEZONE:America/New_York
X-WR-CALNAME:BayAreaScience.org
BEGIN:VEVENT
URL;VALUE=URI:https://www.bayareascience.org/calendar/index.php?com=detail&eID=36079
DTSTART:20240530T180000
DTEND:20240530T220000
SUMMARY:After Dark: Feeling Emotional
DESCRIPTION:Unlock the powerful and varied world of emotions tonight. Can you really catch feelings from those around you? And can you judge an emotion from someoneâ€™s face alone? Discover how people...\n______________________________\nThis Event Downloaded From a Helios Calendar Powered Site
LOCATION:ExplOratorium - Pier 15 (Embarcadero at Green Street)  \, San Francisco\, CA USA 94111
CATEGORIES:BayAreaScience.org Events
PRIORITY:0
TRANSP:TRANSPARENT
END:VEVENT
END:VCALENDAR