BEGIN:VCALENDAR
VERSION:2.0
METHOD:PUBLISH
CALSCALE:GREGORIAN
PRODID:-//Refresh Web Development//Helios Calendar//EN
X-FROM-URL:https://www.bayareascience.org/calendar/index.php?com=details&eID=36082
X-WR-RELCALID:BayAreaScience.org Vagrancy in Birds - Livestream 20240912T190000
X-WR-TIMEZONE:America/New_York
X-WR-CALNAME:BayAreaScience.org
BEGIN:VEVENT
URL;VALUE=URI:https://www.bayareascience.org/calendar/index.php?com=detail&eID=36082
DTSTART:20240912T190000
DTEND:20240912T210000
SUMMARY:Vagrancy in Birds - Livestream
DESCRIPTION:Do you chase rare birds that accidentally occur in our area outside of their normal migration range? If so\, you enjoy finding vagrant birds\, a phenomenon many Marin County birders...\n______________________________\nThis Event Downloaded From a Helios Calendar Powered Site
LOCATION:Marin Audubon Socitey -  \, \, CA  
CATEGORIES:BayAreaScience.org Events
PRIORITY:0
TRANSP:TRANSPARENT
END:VEVENT
END:VCALENDAR