BEGIN:VCALENDAR
VERSION:2.0
METHOD:PUBLISH
CALSCALE:GREGORIAN
PRODID:-//Refresh Web Development//Helios Calendar//EN
X-FROM-URL:https://www.bayareascience.org/calendar/index.php?com=details&eID=36083
X-WR-RELCALID:BayAreaScience.org Raptor Quest: Chasing America's Raptors - Livestream 20241010T190000
X-WR-TIMEZONE:America/New_York
X-WR-CALNAME:BayAreaScience.org
BEGIN:VEVENT
URL;VALUE=URI:https://www.bayareascience.org/calendar/index.php?com=detail&eID=36083
DTSTART:20241010T190000
DTEND:20241010T210000
SUMMARY:Raptor Quest: Chasing America's Raptors - Livestream
DESCRIPTION:Scott Harris will be discussing his book “Raptor Quest: Chasing America’s Raptors”\, which documents his 17-month adventure tracking 53 raptor species across 34 states in the US\, from the...\n______________________________\nThis Event Downloaded From a Helios Calendar Powered Site
LOCATION:Marin Audubon Socitey -  \, \, CA  
CATEGORIES:BayAreaScience.org Events
PRIORITY:0
TRANSP:TRANSPARENT
END:VEVENT
END:VCALENDAR