BEGIN:VCALENDAR
VERSION:2.0
METHOD:PUBLISH
CALSCALE:GREGORIAN
PRODID:-//Refresh Web Development//Helios Calendar//EN
X-FROM-URL:https://www.bayareascience.org/calendar/index.php?com=details&eID=36085
X-WR-RELCALID:BayAreaScience.org Binocular Stargazing at Coyote Valley Open Space Preserve 20240601T211500
X-WR-TIMEZONE:America/New_York
X-WR-CALNAME:BayAreaScience.org
BEGIN:VEVENT
URL;VALUE=URI:https://www.bayareascience.org/calendar/index.php?com=detail&eID=36085
DTSTART:20240601T211500
DTEND:20240601T224500
SUMMARY:Binocular Stargazing at Coyote Valley Open Space Preserve
DESCRIPTION:Want to learn the night sky? Want to see the Milky Way and the stars contained in it? Did you know that you donâ€™t need to spend a ton of money on a telescope to do so? All you...\n______________________________\nThis Event Downloaded From a Helios Calendar Powered Site
LOCATION:Coyote Valley Open Space Preserve - 550 Palm Ave \, Morgan Hill\, CA  95037
CATEGORIES:BayAreaScience.org Events
PRIORITY:0
TRANSP:TRANSPARENT
END:VEVENT
END:VCALENDAR