BEGIN:VCALENDAR
VERSION:2.0
METHOD:PUBLISH
CALSCALE:GREGORIAN
PRODID:-//Refresh Web Development//Helios Calendar//EN
X-FROM-URL:https://www.bayareascience.org/calendar/index.php?com=details&eID=36086
X-WR-RELCALID:BayAreaScience.org Astronomy on Tap Tucson #98: Dark Energy + Colliding Worlds - Livestream 20240521T193000
X-WR-TIMEZONE:America/New_York
X-WR-CALNAME:BayAreaScience.org
BEGIN:VEVENT
URL;VALUE=URI:https://www.bayareascience.org/calendar/index.php?com=detail&eID=36086
DTSTART:20240521T193000
DTEND:20240521T213000
SUMMARY:Astronomy on Tap Tucson #98: Dark Energy + Colliding Worlds - Livestream
DESCRIPTION:This month\, weâ€™ll be joined by NSF NOIRLab astronomer Dr. Yuanyuan Zhang talking about dark energy and the expanding universe and Lunar and Planetary Laboratory grad student Arin Avsar telling...\n______________________________\nThis Event Downloaded From a Helios Calendar Powered Site
LOCATION:Astronomy on Tap -  \, \, CA  
CATEGORIES:BayAreaScience.org Events
PRIORITY:0
TRANSP:TRANSPARENT
END:VEVENT
END:VCALENDAR