BEGIN:VCALENDAR
VERSION:2.0
METHOD:PUBLISH
CALSCALE:GREGORIAN
PRODID:-//Refresh Web Development//Helios Calendar//EN
X-FROM-URL:https://www.bayareascience.org/calendar/index.php?com=details&eID=36088
X-WR-RELCALID:BayAreaScience.org Chabot Pride: #SpaceForAll 20240601T100000
X-WR-TIMEZONE:America/New_York
X-WR-CALNAME:BayAreaScience.org
BEGIN:VEVENT
URL;VALUE=URI:https://www.bayareascience.org/calendar/index.php?com=detail&eID=36088
DTSTART:20240601T100000
DTEND:20240601T160000
SUMMARY:Chabot Pride: #SpaceForAll
DESCRIPTION:Bring the whole family to kickstart your Pride Month with this out-of-this-world Pride party at Chabot! Discover the science of rainbows\, dance with family & friends at the DJ dance party\,...\n______________________________\nThis Event Downloaded From a Helios Calendar Powered Site
LOCATION:Chabot Space and Science Center - 10000 Skyline Blvd \, Oakland\, CA USA 94619
CATEGORIES:BayAreaScience.org Events
PRIORITY:0
TRANSP:TRANSPARENT
END:VEVENT
END:VCALENDAR