BEGIN:VCALENDAR
VERSION:2.0
METHOD:PUBLISH
CALSCALE:GREGORIAN
PRODID:-//Refresh Web Development//Helios Calendar//EN
X-FROM-URL:https://www.bayareascience.org/calendar/index.php?com=details&eID=36089
X-WR-RELCALID:BayAreaScience.org First Friday Nights 20240607T170000
X-WR-TIMEZONE:America/New_York
X-WR-CALNAME:BayAreaScience.org
BEGIN:VEVENT
URL;VALUE=URI:https://www.bayareascience.org/calendar/index.php?com=detail&eID=36089
DTSTART:20240607T170000
DTEND:20240607T200000
SUMMARY:First Friday Nights
DESCRIPTION:Come together as a family to celebrate Pride and Love! Soar into the weekend with live music\, a fantastic food truck\, colorful science activities\, animal presentations\, and with special guest\,...\n______________________________\nThis Event Downloaded From a Helios Calendar Powered Site
LOCATION:CuriOdyssey - 1651 Coyote Point Drive \, San Mateo\, CA USA 94401
CATEGORIES:BayAreaScience.org Events
PRIORITY:0
TRANSP:TRANSPARENT
END:VEVENT
END:VCALENDAR